BEGIN:VCALENDAR
VERSION:2.0
PRODID:-//wp-events-plugin.com//7.2.3.1//EN
TZID:America/Toronto
X-WR-TIMEZONE:America/Toronto
BEGIN:VEVENT
UID:55@aidantsdesseigneuries.org
DTSTART;TZID=America/Toronto:20240912T133000
DTEND;TZID=America/Toronto:20240912T153000
DTSTAMP:20240904T235242Z
URL:https://aidantsdesseigneuries.org/events/aide-medicale-a-mourir-le-dro
 it-de-mourir-dans-la-dignite/
SUMMARY:Aide médicale à mourir - Le droit de mourir dans la dignité
DESCRIPTION:COMPLET\n\nLe Dr Georges L'Espérance nous entretiendra sur l'a
 ide médicale à mourir\, les changements et les avancées.
ATTACH;FMTTYPE=image/jpeg:https://aidantsdesseigneuries.org/wp-content/upl
 oads/2024/02/Pub-Aide-medical-a-mourir-pdf.jpg
CATEGORIES:Événement présentiel,Grand public
LOCATION:Espace des Bâtisseurs - 2022 Place du 350e\, Varennes\, 2022 Plac
 e du 350e\, Varennes\, Québec\, J3X 0K9\, Canada
X-APPLE-STRUCTURED-LOCATION;VALUE=URI;X-ADDRESS=2022 Place du 350e\, Varenn
 es\, Québec\, J3X 0K9\, Canada;X-APPLE-RADIUS=100;X-TITLE=Espace des Bât
 isseurs - 2022 Place du 350e\, Varennes:geo:0,0
END:VEVENT
BEGIN:VTIMEZONE
TZID:America/Toronto
X-LIC-LOCATION:America/Toronto
BEGIN:DAYLIGHT
DTSTART:20240310T030000
TZOFFSETFROM:-0500
TZOFFSETTO:-0400
TZNAME:EDT
END:DAYLIGHT
END:VTIMEZONE
END:VCALENDAR