BEGIN:VCALENDAR
VERSION:2.0
PRODID:-//wp-events-plugin.com//7.2.3.1//EN
TZID:America/Toronto
X-WR-TIMEZONE:America/Toronto
BEGIN:VEVENT
UID:66@aidantsdesseigneuries.org
DTSTART;TZID=America/Toronto:20240415T140000
DTEND;TZID=America/Toronto:20240415T160000
DTSTAMP:20240405T131320Z
URL:https://aidantsdesseigneuries.org/events/conference-nicole-bordeleau-i
 nscription-proche-aidant/
SUMMARY:Nouvelle date - Conférence Nicole Bordeleau
DESCRIPTION:Cinq (5) clés efficaces\, simples mais puissantes\, pour pendr
 e soin de soi tout en demeurant en lien avec les autres.
CATEGORIES:Événement présentiel
LOCATION:Espace des Bâtisseurs - 2022 Place du 350e\, Varennes\, 2022 Plac
 e du 350e\, Varennes\, Québec\, J3X 0K9\, Canada
X-APPLE-STRUCTURED-LOCATION;VALUE=URI;X-ADDRESS=2022 Place du 350e\, Varenn
 es\, Québec\, J3X 0K9\, Canada;X-APPLE-RADIUS=100;X-TITLE=Espace des Bât
 isseurs - 2022 Place du 350e\, Varennes:geo:0,0
END:VEVENT
BEGIN:VTIMEZONE
TZID:America/Toronto
X-LIC-LOCATION:America/Toronto
BEGIN:DAYLIGHT
DTSTART:20240310T030000
TZOFFSETFROM:-0500
TZOFFSETTO:-0400
TZNAME:EDT
END:DAYLIGHT
END:VTIMEZONE
END:VCALENDAR