BEGIN:VCALENDAR
VERSION:2.0
PRODID:-//wp-events-plugin.com//7.2.3.1//EN
TZID:America/Toronto
X-WR-TIMEZONE:America/Toronto
BEGIN:VEVENT
UID:134@aidantsdesseigneuries.org
DTSTART;TZID=America/Toronto:20251110T130000
DTEND;TZID=America/Toronto:20251110T153000
DTSTAMP:20251020T173529Z
URL:https://aidantsdesseigneuries.org/events/le-chemin-du-pardon-2-rencont
 res-obligatoire/
SUMMARY:COMPLET - Le Chemin du Pardon  (Les 2 rencontres sont obligatoires 
 pour cette atelier - Les 10 novembre et 24 novembre 2025)
DESCRIPTION:Ce parcours se déroule en deux ateliers complémentaires\, pen
 sés comme un espace de ressourcement et de transformation. Ensemble\, nou
 s explorerons le pardon envers soi\, envers l’autre\, dans un cadre doux
 \, respectueux et bienveillant.\nPour vivre pleinement cette démarche\, i
 l est essentiel d’être disponible pour les deux rencontres. Chaque atel
 ier est une étape du chemin\, une invitation à se déposer\, à ressenti
 r\, à accueillir ce qui est là… et à faire un pas vers une réconcili
 ation intérieure.
ATTACH;FMTTYPE=image/jpeg:https://aidantsdesseigneuries.org/wp-content/upl
 oads/2025/10/Le-chemin-du-pardon-.png
CATEGORIES:Événement présentiel
LOCATION:Les Aidants des Seigneuries\, 297\, rue Principale\, Saint-Amable\
 , Québec\, J0L 1N0\, Canada
X-APPLE-STRUCTURED-LOCATION;VALUE=URI;X-ADDRESS=297\, rue Principale\, Sain
 t-Amable\, Québec\, J0L 1N0\, Canada;X-APPLE-RADIUS=100;X-TITLE=Les Aidan
 ts des Seigneuries:geo:0,0
END:VEVENT
BEGIN:VTIMEZONE
TZID:America/Toronto
X-LIC-LOCATION:America/Toronto
BEGIN:STANDARD
DTSTART:20251102T010000
TZOFFSETFROM:-0400
TZOFFSETTO:-0500
TZNAME:EST
END:STANDARD
END:VTIMEZONE
END:VCALENDAR