BEGIN:VCALENDAR
VERSION:2.0
PRODID:-//wp-events-plugin.com//7.2.3.1//EN
TZID:America/Toronto
X-WR-TIMEZONE:America/Toronto
BEGIN:VEVENT
UID:112@aidantsdesseigneuries.org
DTSTART;TZID=America/Toronto:20250709T093000
DTEND;TZID=America/Toronto:20250709T113000
DTSTAMP:20250626T150920Z
URL:https://aidantsdesseigneuries.org/events/mieux-se-connaitre-pour-se-li
 berer-et-mieux-respirer/
SUMMARY:CET ATELIER EST COMPLET - Mieux se connaître pour se libérer et m
 ieux respirer
DESCRIPTION:Se libérer\, c’est s’offrir l’espace de respirer de nouv
 eau. Cet atelier propose une exploration douce de nos parts sensibles\, de
  nos schémas répétitifs et de ce qui nous encombre intérieurement. En 
 cultivant plus de clarté et de conscience\, tu pourras déposer ce qui ne
  t’appartient plus et retrouver un souffle plus libre\, plus aligné
ATTACH;FMTTYPE=image/jpeg:https://aidantsdesseigneuries.org/wp-content/upl
 oads/2025/05/Atelier-3mieux-respirer.png
CATEGORIES:Événement présentiel
LOCATION:Espace des Bâtisseurs - 2022 Place du 350e\, Varennes\, 2022 Plac
 e du 350e\, Varennes\, Québec\, J3X 0K9\, Canada
X-APPLE-STRUCTURED-LOCATION;VALUE=URI;X-ADDRESS=2022 Place du 350e\, Varenn
 es\, Québec\, J3X 0K9\, Canada;X-APPLE-RADIUS=100;X-TITLE=Espace des Bât
 isseurs - 2022 Place du 350e\, Varennes:geo:0,0
END:VEVENT
BEGIN:VTIMEZONE
TZID:America/Toronto
X-LIC-LOCATION:America/Toronto
BEGIN:DAYLIGHT
DTSTART:20250309T030000
TZOFFSETFROM:-0500
TZOFFSETTO:-0400
TZNAME:EDT
END:DAYLIGHT
END:VTIMEZONE
END:VCALENDAR